Workbook
Name _a12345: #REF!
Name _a12345: #REF!
Name _C1111: #REF!
Name _C1111: #REF!
Name _C73480: #REF!
Name _C73480: #REF!
Name _C80428: #REF!
Name _C80428: #REF!
Name _C89116: #REF!
Name _C89116: #REF!
Name _C89167: #REF!
Name _C89167: #REF!
Name bout: [1]選手!$A$2:$I$96
Name dfvs: #REF!
Name dfvs: #REF!
Name judge: [1]選手!$A$1:$B$21
Name judge02: #REF!
Name judge02: #REF!
Name list: [1]選手!$A$2:$F$151
Name result: [2]選手!$A$2:$B$692
Name ｒｒｒｒ: #REF!
Name ｒｒｒｒ: #REF!
Name ｒｔｇｈ: #REF!
Name ｒｔｇｈ: #REF!
Name あ: #REF!
Name あ: #REF!
Name い: #REF!
Name い: #REF!
Name 交通費: #REF!
Name 交通費: #REF!
Name 交通費２: #REF!
Name 交通費２: #REF!
Name 交通費３: #REF!
Name 交通費３: #REF!
Name 交通費４: #REF!
Name 交通費４: #REF!
Name 山型原版: [3]選手!$A$2:$I$96
Name 車賃定額表: #REF!
Name 車賃定額表: #REF!
Name 審判名簿: #REF!
Name 審判名簿: #REF!
Name 青: INDIRECT([4]選手!$K$16)
Name 赤: INDIRECT([4]選手!$A$16)
Name 選手名簿: [2]選手!$A$2:$F$151
Name 全国旅費: #REF!
Name 全国旅費: #REF!
Name 全国旅費１: #REF!
Name 全国旅費１: #REF!

Sheet データ入力用
E2: ブロック名 | G2: (選択)
E4: ブロック ボクシング連盟 会長名 | G4: (全角・・姓と名 全角一文字空ける） | AE4: 役職 | AG4: 都道府県 | AI4: ブロック | AJ4: 番号 | AK4: 元号 | AM4: 外字 | AN4: 男女 | AO4: 区分
AE5: ブロック監督 | AG5: 北海道 | AH5: 1 | AI5: 北海道 | AJ5: 01 | AK5: 昭和 | AM5: あり | AN5: 男 | AO5: ピン級
F6: 氏名 | G6: 携帯（TEL）半角※ハイフン入力 | H6: E-mail（半角） | I6: (氏名：全角・・姓と名 一文字空ける） | AE6: ブロックコーチ | AG6: 青森 | AH6: 2 | AI6: 東北 | AJ6: 02 | AK6: 平成 | AN6: 女 | AO6: ライトフライ級
E7: ブロック連盟事務局担当 | I7: (英数字：半角） | AE7: 引率責任者 | AG7: 岩手 | AH7: 3 | AI7: 北信越 | AJ7: 03 | AO7: フライ級
T8: （日連登録番号：半角・・年度を除く） | AE8: 引率 | AG8: 宮城 | AH8: 4 | AI8: 関東 | AJ8: 04 | AO8: バンタム級
D9: 男女 | E9: 区 分 | F9: 氏名 | G9: ふりがな | H9: 学校（所属）名 | I9: 学校（所属）ふりがな | J9: 都道府県名 | K9: 日連登録番号 | L9: 生年月日 | S9: 外字 | T9: (氏名・ふりがな：全角・・姓と名 全角一文字空ける） | AE9: チーフセカンド | AG9: 秋田 | AH9: 5 | AI9: 東海 | AJ9: 05 | AO9: ライト級
E10: 代 表 監 督 | N10: 年 | P10: 月 | R10: 日 | T10: （学校名・ふりがな：全角・・○○県立、○○法人等を除く） | AE10: サブセカンド | AG10: 山形 | AH10: 6 | AI10: 関西 | AJ10: 06 | AO10: ウェルター級
E11: 代 表 コ ー チ | N11: 年 | P11: 月 | R11: 日 | T11: （生年月日：半角・・和暦（平成）で） | AE11: アシスタントセカンド | AG11: 福島 | AH11: 7 | AI11: 中国 | AJ11: 07 | AO11: ライトミドル級
T12: 数字：半角 | AE12: 帯同生徒 | AG12: 茨城 | AH12: 8 | AI12: 四国 | AJ12: 08 | AO12: ミドル級
C13: ＜選手データ＞（女子、男子、軽量級から記入） | Y13: 始めだけ大文字 | Z13: 始めだけ大文字 | AE13: トレーナー | AG13: 栃木 | AH13: 9 | AI13: 九州 | AJ13: 09
B14: 番号 | C14: 日連推薦 | D14: 男女 | E14: 階 級 | F14: 選手名 | G14: ふりがな | H14: 学校（所属）名 | I14: 学校（所属）ふりがな | J14: 都道府県名 | K14: 日連登録番号 | L14: 生年月日 | S14: 学年 | T14: 戦歴 | X14: 外字 | Y14: ローマ字入力（姓） | Z14: ローマ字入力（名） | AG14: 群馬 | AH14: 10 | AI14: 三重 | AJ14: 10
B15: 例 | C15: ○ | D15: 男 | E15: ミドル級 | F15: 選抜 大会 | G15: せんばつ たいかい | H15: 水沢工業高等学校 | I15: みずさわこうぎょうこうとうがっこう | J15: 岩手 | K15: B003237 | L15: 平成 | M15: 21 | N15: 年 | O15: 10 | P15: 月 | Q15: 11 | R15: 日 | S15: 3 | T15: 1 | U15: 勝 | V15: 2 | W15: 敗 | X15: あり | Y15: Senbatu | Z15: Taikai | AG15: 埼玉 | AH15: 11
B16: 1 | L16: 平成 | N16: 年 | P16: 月 | R16: 日 | U16: 勝 | W16: 敗 | AG16: 千葉 | AH16: 12
B17: 2 | L17: 平成 | N17: 年 | P17: 月 | R17: 日 | U17: 勝 | W17: 敗 | AG17: 東京 | AH17: 13
B18: 3 | L18: 平成 | N18: 年 | P18: 月 | R18: 日 | U18: 勝 | W18: 敗 | AG18: 神奈川 | AH18: 14
B19: 4 | L19: 平成 | N19: 年 | P19: 月 | R19: 日 | U19: 勝 | W19: 敗 | AG19: 山梨 | AH19: 15
B20: 5 | L20: 平成 | N20: 年 | P20: 月 | R20: 日 | U20: 勝 | W20: 敗 | AG20: 新潟 | AH20: 16
B21: 6 | L21: 平成 | N21: 年 | P21: 月 | R21: 日 | U21: 勝 | W21: 敗 | AG21: 富山 | AH21: 17
B22: 7 | L22: 平成 | N22: 年 | P22: 月 | R22: 日 | U22: 勝 | W22: 敗 | AG22: 石川 | AH22: 18
B23: 8 | L23: 平成 | N23: 年 | P23: 月 | R23: 日 | U23: 勝 | W23: 敗 | AG23: 福井 | AH23: 19
B24: 9 | L24: 平成 | N24: 年 | P24: 月 | R24: 日 | U24: 勝 | W24: 敗 | AG24: 長野 | AH24: 20
B25: 10 | L25: 平成 | N25: 年 | P25: 月 | R25: 日 | U25: 勝 | W25: 敗 | AG25: 岐阜 | AH25: 21
B26: 11 | L26: 平成 | N26: 年 | P26: 月 | R26: 日 | U26: 勝 | W26: 敗 | AG26: 静岡 | AH26: 22
B27: 12 | L27: 平成 | N27: 年 | P27: 月 | R27: 日 | U27: 勝 | W27: 敗 | AG27: 愛知 | AH27: 23
... B38: 23 | L38: 平成 | N38: 年 | P38: 月 | R38: 日 | U38: 勝 | W38: 敗 | AG38: 広島 | AH38: 34
AG39: 山口 | AH39: 35
C40: （日連推薦者には、○印を付ける） | F40: (氏名・ふりがな：全角・・姓と名 全角一文字空ける） | H40: （学校名・ふりがな：全角 | K40: （日連登録番号：Bから半角記入） | W40: 数字：半角 | AG40: 徳島 | AH40: 36
H41: ・・正式名称で、○○県立、○○法人等は除く） | AG41: 香川 | AH41: 37
AG42: 愛媛 | AH42: 38
C43: ＜セカンド及び参加者申請（選手以外）＞ | AG43: 高知 | AH43: 39
C44: ※①②は、①に入力、役職が複数ある場合は①②にそれぞれ入力してください。 | AG44: 福岡 | AH44: 40
C45: ※出場選手は入力不要。また出場選手はアシスタントセカンド可なので、入力しないこと。 | AG45: 佐賀 | AH45: 41
C46: ※大会関係者は実行委員会で取りまとめるので入力しないこと。 | AG46: 長崎 | AH46: 42
J47: （登録していない方は入力不要） | AG47: 熊本 | AH47: 43
F48: (氏名・ふりがな：全角・・姓と名 全角一文字空ける） | H48: （学校名・ふりがな：全角 | K48: （セカンド資格がない方は入力不要） | AG48: 大分 | AH48: 44
H49: ・・正式名称で、○○県立、○○法人等は除く） | J49: （登録番号：Bから半角記入） | L49: 高校所属の場合は記載不要 | AG49: 宮崎 | AH49: 45
B50: 番号 | C50: 役職① | E50: 役職② | F50: 氏名 | G50: ふりがな | H50: 学校（所属）名 | I50: 都道府県名 | J50: 日連登録番号 | K50: セカンド番号 | L50: 連絡先 | AG50: 鹿児島 | AH50: 46
B51: 例 | C51: 引率責任者 | E51: チーフセカンド | F51: 選抜 太郎 | G51: せんばつ たろう | H51: 水沢ジム | I51: 岩手 | J51: B003273 | K51: 16A030007 | L51: 090-0000-0000 ※ハイフン入力 | AG51: 沖縄 | AH51: 47
B52: 例 | C52: 帯同生徒 | E52: アシスタントセカンド | F52: 選抜 二朗 | G52: せんばつ じろう | H52: 水沢工業高等学校 | I52: 岩手 | J52: B012345
...

Sheet ①男女その1
C1: 令和８年度 第38回全国高等学校ボクシング選抜大会 | BS1: ※ブロック専門委員長は、各学校から提出されたエクセルファイルを使用し、
C2: 兼 ＪＯＣジュニアオリンピックカップボクシング競技大会 | BS2: "データ入力用"シートに、選手データをコピーしてください。
BS3: その後、この参加申込書を各ブロック連盟へメールで送付してください。
A4: 参 加 申 込 書 （ 男子・女子 ／その１ ）
AW6: 令和 | AZ6: 8 | BC6: 年 | BH6: 月 | BM6: 日
C8: 令和８年度 第38回全国高等学校ボクシング選抜大会 大会会長 殿
G10: 下記は | K10: =データ入力用!F2 -> 0 | T10: ブロック代表とし標記大会に出場することを認め，参加申し込みをいたします。
AQ11: =データ入力用!F4 -> 0
K12: =K10 -> 0 | T12: ブロック ボクシング連盟 会長 | BM12: 印
C14: 男女 | G14: 区 分 | N14: 登録番号 | T14: ふりがな | AH14: ふりがな | AV14: 生年月日
T15: 氏 名 | AH15: 所 属
C16: =データ入力用!D10 -> 0 | G16: 代表監督 | N16: =データ入力用!K10 -> 0 | T16: =データ入力用!G10 -> 0 | AH16: =データ入力用!I10 -> 0 | AV16: =IF(データ入力用!G10="","",データ入力用!L10&データ入力用!M10&"年")
T17: =データ入力用!F10 -> 0 | AH17: =データ入力用!H10 -> 0 | AV17: =IF(データ入力用!G10="","",データ入力用!O10&"月"&データ入力用!Q10&"日")
C19: =データ入力用!D11 -> 0 | G19: 代表コーチ | N19: =データ入力用!K11 -> 0 | T19: =データ入力用!G11 -> 0 | AH19: =データ入力用!I11 -> 0 | AV19: =IF(データ入力用!G11="","",データ入力用!L11&データ入力用!M11&"年")
T20: =データ入力用!F11 -> 0 | AH20: =データ入力用!H11 -> 0 | AV20: =IF(データ入力用!G11="","",データ入力用!O11&"月"&データ入力用!Q11&"日")
B23: 推 薦 | C23: 男女 | G23: 階 級 | N23: 登録番号 | T23: ふりがな | AH23: ふりがな | AV23: 生年月日 | BC23: 学年 | BG23: 戦 績
T24: 氏 名 | AH24: 所 属
B25: =データ入力用!C16 -> 0 | C25: =データ入力用!D16 -> 0 | G25: =データ入力用!E16 -> 0 | N25: =データ入力用!F16 -> 0 | T25: =データ入力用!H16 -> 0 | AH25: =データ入力用!J16 -> 0 | AV25: =IF(データ入力用!G16="","","平成"&データ入力用!M16&"年") | BC25: =データ入力用!S16 -> 0 | BG25: =データ入力用!T16 -> 0 | BK25: 勝 | BL25: =IF(ISBLANK(データ入力用!G16),"",データ入力用!V16) | BP25: 敗
A26: 1 | T26: =データ入力用!G16 -> 0 | AH26: =データ入力用!I16 -> 0 | AV26: =IF(データ入力用!G16="","",データ入力用!O16&"月"&データ入力用!Q16&"日")
B28: =データ入力用!C17 -> 0 | C28: =データ入力用!D17 -> 0 | G28: =データ入力用!E17 -> 0 | N28: =データ入力用!F17 -> 0 | T28: =データ入力用!H17 -> 0 | AH28: =データ入力用!J17 -> 0 | AV28: =IF(データ入力用!G17="","","平成"&データ入力用!M17&"年") | BC28: =データ入力用!S17 -> 0 | BG28: =データ入力用!T17 -> 0 | BK28: 勝 | BL28: =IF(ISBLANK(データ入力用!G16),"",データ入力用!V17) | BP28: 敗
A29: 2 | T29: =データ入力用!G17 -> 0 | AH29: =データ入力用!I17 -> 0 | AV29: =IF(データ入力用!G17="","",データ入力用!O17&"月"&データ入力用!Q17&"日")
B31: =データ入力用!C18 -> 0 | C31: =データ入力用!D18 -> 0 | G31: =データ入力用!E18 -> 0 | N31: =データ入力用!F18 -> 0 | T31: =データ入力用!H18 -> 0 | AH31: =データ入力用!J18 -> 0 | AV31: =IF(データ入力用!G18="","","平成"&データ入力用!M18&"年") | BC31: =データ入力用!S18 -> 0 | BG31: =データ入力用!T18 -> 0 | BK31: 勝 | BL31: =IF(ISBLANK(データ入力用!G18),"",データ入力用!V18) | BP31: 敗
A32: 3 | T32: =データ入力用!G18 -> 0 | AH32: =データ入力用!I18 -> 0 | AV32: =IF(データ入力用!G18="","",データ入力用!O18&"月"&データ入力用!Q18&"日")
B34: =データ入力用!C19 -> 0 | C34: =データ入力用!D19 -> 0 | G34: =データ入力用!E19 -> 0 | N34: =データ入力用!F19 -> 0 | T34: =データ入力用!H19 -> 0 | AH34: =データ入力用!J19 -> 0 | AV34: =IF(データ入力用!G19="","","平成"&データ入力用!M19&"年") | BC34: =データ入力用!S19 -> 0 | BG34: =データ入力用!T19 -> 0 | BK34: 勝 | BL34: =IF(ISBLANK(データ入力用!G19),"",データ入力用!V19) | BP34: 敗
A35: 4 | T35: =データ入力用!G19 -> 0 | AH35: =データ入力用!I19 -> 0 | AV35: =IF(データ入力用!G19="","",データ入力用!O19&"月"&データ入力用!Q19&"日")
B37: =データ入力用!C20 -> 0 | C37: =データ入力用!D20 -> 0 | G37: =データ入力用!E20 -> 0 | N37: =データ入力用!F20 -> 0 | T37: =データ入力用!H20 -> 0 | AH37: =データ入力用!J20 -> 0 | AV37: =IF(データ入力用!G20="","","平成"&データ入力用!M20&"年") | BC37: =データ入力用!S20 -> 0 | BG37: =データ入力用!T20 -> 0 | BK37: 勝 | BL37: =IF(ISBLANK(データ入力用!G20),"",データ入力用!V20) | BP37: 敗
A38: 5 | T38: =データ入力用!G20 -> 0 | AH38: =データ入力用!I20 -> 0 | AV38: =IF(データ入力用!G20="","",データ入力用!O20&"月"&データ入力用!Q20&"日")
B40: =データ入力用!C21 -> 0 | C40: =データ入力用!D21 -> 0 | G40: =データ入力用!E21 -> 0 | N40: =データ入力用!F21 -> 0 | T40: =データ入力用!H21 -> 0 | AH40: =データ入力用!J21 -> 0 | AV40: =IF(データ入力用!G21="","","平成"&データ入力用!M21&"年") | BC40: =データ入力用!S21 -> 0 | BG40: =データ入力用!T21 -> 0 | BK40: 勝 | BL40: =IF(ISBLANK(データ入力用!G21),"",データ入力用!V21) | BP40: 敗
A41: 6 | T41: =データ入力用!G21 -> 0 | AH41: =データ入力用!I21 -> 0 | AV41: =IF(データ入力用!G21="","",データ入力用!O21&"月"&データ入力用!Q21&"日")
B43: =データ入力用!C22 -> 0 | C43: =データ入力用!D22 -> 0 | G43: =データ入力用!E22 -> 0 | N43: =データ入力用!F22 -> 0 | T43: =データ入力用!H22 -> 0 | AH43: =データ入力用!J22 -> 0 | AV43: =IF(データ入力用!G22="","","平成"&データ入力用!M22&"年") | BC43: =データ入力用!S22 -> 0 | BG43: =データ入力用!T22 -> 0 | BK43: 勝 | BL43: =IF(ISBLANK(データ入力用!G22),"",データ入力用!V22) | BP43: 敗
A44: 7 | T44: =データ入力用!G22 -> 0 | AH44: =データ入力用!I22 -> 0 | AV44: =IF(データ入力用!G22="","",データ入力用!O22&"月"&データ入力用!Q22&"日")
B46: =データ入力用!C23 -> 0 | C46: =データ入力用!D23 -> 0 | G46: =データ入力用!E23 -> 0 | N46: =データ入力用!F23 -> 0 | T46: =データ入力用!H23 -> 0 | AH46: =データ入力用!J23 -> 0 | AV46: =IF(データ入力用!G23="","","平成"&データ入力用!M23&"年") | BC46: =データ入力用!S23 -> 0 | BG46: =データ入力用!T23 -> 0 | BK46: 勝 | BL46: =IF(ISBLANK(データ入力用!G23),"",データ入力用!V23) | BP46: 敗
A47: 8 | T47: =データ入力用!G23 -> 0 | AH47: =データ入力用!I23 -> 0 | AV47: =IF(データ入力用!G23="","",データ入力用!O23&"月"&データ入力用!Q23&"日")
B49: =データ入力用!C24 -> 0 | C49: =データ入力用!D24 -> 0 | G49: =データ入力用!E24 -> 0 | N49: =データ入力用!F24 -> 0 | T49: =データ入力用!H24 -> 0 | AH49: =データ入力用!J24 -> 0 | AV49: =IF(データ入力用!G24="","","平成"&データ入力用!M24&"年") | BC49: =データ入力用!S24 -> 0 | BG49: =データ入力用!T24 -> 0 | BK49: 勝 | BL49: =IF(ISBLANK(データ入力用!G24),"",データ入力用!V24) | BP49: 敗
A50: 9 | T50: =データ入力用!G24 -> 0 | AH50: =データ入力用!I24 -> 0 | AV50: =IF(データ入力用!G24="","",データ入力用!O24&"月"&データ入力用!Q24&"日")
B52: =データ入力用!C25 -> 0 | C52: =データ入力用!D25 -> 0 | G52: =データ入力用!E25 -> 0 | N52: =データ入力用!F25 -> 0 | T52: =データ入力用!H25 -> 0 | AH52: =データ入力用!J25 -> 0 | AV52: =IF(データ入力用!G25="","","平成"&データ入力用!M25&"年") | BC52: =データ入力用!S25 -> 0 | BG52: =データ入力用!T25 -> 0 | BK52: 勝 | BL52: =IF(ISBLANK(データ入力用!G25),"",データ入力用!V25) | BP52: 敗
A53: 10 | T53: =データ入力用!G25 -> 0 | AH53: =データ入力用!I25 -> 0 | AV53: =IF(データ入力用!G25="","",データ入力用!O25&"月"&データ入力用!Q25&"日")
B55: =データ入力用!C26 -> 0 | C55: =データ入力用!D26 -> 0 | G55: =データ入力用!E26 -> 0 | N55: =データ入力用!F26 -> 0 | T55: =データ入力用!H26 -> 0 | AH55: =データ入力用!J26 -> 0 | AV55: =IF(データ入力用!G26="","","平成"&データ入力用!M26&"年") | BC55: =データ入力用!S26 -> 0 | BG55: =データ入力用!T26 -> 0 | BK55: 勝 | BL55: =IF(ISBLANK(データ入力用!G26),"",データ入力用!V26) | BP55: 敗
A56: 11 | T56: =データ入力用!G26 -> 0 | AH56: =データ入力用!I26 -> 0 | AV56: =IF(データ入力用!G26="","",データ入力用!O26&"月"&データ入力用!Q26&"日")
B58: =データ入力用!C27 -> 0 | C58: =データ入力用!D27 -> 0 | G58: =データ入力用!E27 -> 0 | N58: =データ入力用!F27 -> 0 | T58: =データ入力用!H27 -> 0 | AH58: =データ入力用!J27 -> 0 | AV58: =IF(データ入力用!G27="","","平成"&データ入力用!M27&"年") | BC58: =データ入力用!S27 -> 0 | BG58: =データ入力用!T27 -> 0 | BK58: 勝 | BL58: =IF(ISBLANK(データ入力用!G27),"",データ入力用!V27) | BP58: 敗
...

Sheet ②男子その2
A1: =①男女その1!C1 -> 令和８年度 第38回全国高等学校ボクシング選抜大会 | AB1: ※各学校の監督は，このシートで申込書を作成し， 印刷した申込書と，このエクセルファイルを，要項に則り 提出してください。
A2: =①男女その1!C2 -> 兼 ＪＯＣジュニアオリンピックカップボクシング競技大会
A4: 参加申込書（ 男子／その２ ） | AB4: 2 | AC4: ←印刷したい選手の番号("データ入力用"シートの左端の番号)を入力
A6: ふ り が な | K6: 学 校 所 在 地
A7: 学 校 名 | K7: 〒 | AC7: ←学校所在地等は，欄に直接入力
A8: =VLOOKUP($AB$4,データ入力用!$B$16:$X$38,8) -> 0
A9: =VLOOKUP($AB$4,データ入力用!$B$16:$X$38,7) -> 0 | K9: TEL | S9: FAX
A10: 日連 推薦 | C10: ふ り が な | K10: 登録番号 | N10: 生年月日 | T10: 学年 | V10: 階 級
C11: 選 手 名 | K11: =VLOOKUP($AB$4,データ入力用!$B$16:$X$38,10) -> 0 | N11: ="平成 "&VLOOKUP($AB$4,データ入力用!$B$16:$X$38,12)&" 年" -> 平成 年 | T11: =VLOOKUP($AB$4,データ入力用!$B$16:$X$38,18) -> 0 | V11: =VLOOKUP($AB$4,データ入力用!$B$16:$X$38,4) -> 0
A12: =VLOOKUP($AB$4,データ入力用!$B$16:$X$38,2) -> 0 | C12: =VLOOKUP($AB$4,データ入力用!$B$16:$X$38,6) -> 0
C13: =VLOOKUP($AB$4,データ入力用!$B$16:$X$38,5) -> 0 | O13: =VLOOKUP($AB$4,データ入力用!$B$16:$X$38,14) -> 0 | P13: 月 | Q13: =VLOOKUP($AB$4,データ入力用!$B$16:$X$38,16) -> 0 | R13: 日
A15: 上記の者は本校生徒であり，標記の大会に出場することを認め申し込みを致します。
A17: 令和７年 | E17: 月 | G17: 日 | N17: 学校長 | Y17: 印 | AC17: ←欄に直接入力
N19: 引率責任者 | Y19: 印
A22: 健康・安全対策に関する確認
B24: 確 認 内 容 | U24: 検査日又は認定日
A25: ① | B25: CTスキャン（またはMRI）検査において頭蓋内病変，及びくも膜のう胞のない証明を受けている。 | V25: 年 | X25: 月 | Z25: 日 | AC25: ←欄に直接入力， または，印刷した紙に手書きで記入
A26: ② | B26: 定期間内に「心電図・レントゲン撮影検査」を実施している。 | V26: 年 | X26: 月 | Z26: 日
A27: ③ | B27: 本年度，「健康診断記録」に必要事項が記載され，医師の署名捺印がされている。 | V27: 年 | X27: 月 | Z27: 日
A28: ④ | B28: 選手手帳「実戦競技出場証明書」のページに，証明者及び親権者の署名・捺印がされている。
A29: ⑤ | B29: 出場（競技）停止の有無 | M29: 「有」の方のみ | Q29: いつから： | T29: 令和 | V29: 年 | X29: 月 | Z29: 日～
B30: （ | D30: ） | E30: 無し | G30: ・ | H30: （ | J30: ） | K30: 有り | M30: ⇒ | Q30: 停止期間： | V30: 日間
Q31: 停止解除許可： | T31: （ | V31: ）
A33: ①～④について，選手手帳にその証明が記載されているか，別途証明書を選手手帳に添付していなければ認められない。⑤についても，選手手帳並びに競技規則を確認し記載すること。
V36: R7 | W36: ○
V37: R6 | W37: ×
V38: R5 | W38: 有
V39: R4 | W39: 無
V40: R3
V41: R2
V42: R1
V43: H30
V44: H29
V45: H28
V46: H27
V47: H26
V48: H25
V49: H24

Sheet ②女子その2
A1: =①男女その1!C1 -> 令和８年度 第38回全国高等学校ボクシング選抜大会 | AB1: ※各学校の監督は，このシートで申込書を作成し， 印刷した申込書と，このエクセルファイルを，要項に則り 提出してください。
A2: =①男女その1!C2 -> 兼 ＪＯＣジュニアオリンピックカップボクシング競技大会
A4: 参加申込書（ 女子／その２ ） | AB4: 2 | AC4: ←印刷したい選手の番号("データ入力用"シートの左端の番号)を入力
A6: ふ り が な | K6: 学 校 所 在 地
A7: 学 校 名 | K7: 〒 | AC7: ←学校所在地等は，欄に直接入力
A8: =VLOOKUP($AB$4,データ入力用!$B$16:$X$38,8) -> 0
A9: =VLOOKUP($AB$4,データ入力用!$B$16:$X$38,7) -> 0 | K9: TEL | S9: FAX
A10: 日連 推薦 | C10: ふ り が な | K10: 登録番号 | N10: 生年月日 | T10: 学年 | V10: 階 級
C11: 選 手 名 | K11: =VLOOKUP($AB$4,データ入力用!$B$16:$X$38,10) -> 0 | N11: ="平成 "&VLOOKUP($AB$4,データ入力用!$B$16:$X$38,12)&" 年" -> 平成 年 | T11: =VLOOKUP($AB$4,データ入力用!$B$16:$X$38,18) -> 0 | V11: =VLOOKUP($AB$4,データ入力用!$B$16:$X$38,4) -> 0
A12: =VLOOKUP($AB$4,データ入力用!$B$16:$X$38,2) -> 0 | C12: =VLOOKUP($AB$4,データ入力用!$B$16:$X$38,6) -> 0
C13: =VLOOKUP($AB$4,データ入力用!$B$16:$X$38,5) -> 0 | O13: =VLOOKUP($AB$4,データ入力用!$B$16:$X$38,14) -> 0 | P13: 月 | Q13: =VLOOKUP($AB$4,データ入力用!$B$16:$X$38,16) -> 0 | R13: 日
A15: 上記の者は本校生徒であり，標記の大会に出場することを認め申し込みを致します。
A17: 令和７年 | E17: 月 | G17: 日 | N17: 学校長 | Y17: 印 | AC17: ←欄に直接入力
N19: 引率責任者 | Y19: 印
A22: 健康・安全対策に関する確認
B24: 確 認 内 容 | U24: 検査日又は認定日
A25: ① | B25: CTスキャン（またはMRI）検査において頭蓋内病変，及びくも膜のう胞のない証明を受けている。 | V25: 年 | X25: 月 | Z25: 日 | AC25: ←欄に直接入力， または，印刷した紙に手書きで記入
A26: ② | B26: 定期間内に「心電図・レントゲン撮影検査」を実施している。 | V26: 年 | X26: 月 | Z26: 日
A27: ③ | B27: 本年度，「健康診断記録」に必要事項が記載され，医師の署名捺印がされている。 | V27: 年 | X27: 月 | Z27: 日
A28: ④ | B28: 選手手帳「実戦競技出場証明書」のページに，証明者及び親権者の署名・捺印がされている。
A29: ⑤ | B29: 出場（競技）停止の有無 | M29: 「有」の方のみ | Q29: いつから： | T29: 令和 | V29: 年 | X29: 月 | Z29: 日～
B30: （ | D30: ） | E30: 無し | G30: ・ | H30: （ | J30: ） | K30: 有り | M30: ⇒ | Q30: 停止期間： | V30: 日間
Q31: 停止解除許可： | T31: （ | V31: ）
A33: ①～④について，選手手帳にその証明が記載されているか，別途証明書を選手手帳に添付していなければ認められない。⑤についても，選手手帳並びに競技規則を確認し記載すること。
V36: R7 | W36: ○
V37: R6 | W37: ×
V38: R5 | W38: 有
V39: R4 | W39: 無
V40: R3
V41: R2
V42: R1
V43: H30
V44: H29
V45: H28
V46: H27
V47: H26
V48: H25
V49: H24

Sheet ③セカンド及び参加者申請
A1: セカンド届及び参加者申請書 | I1: ブロック | J1: =IF(データ入力用!F2=0,"",データ入力用!F2)
A2: ※①②は、①に入力、役職が複数ある場合は①②にそれぞれ入力してください。
A3: ※出場選手は入力不要。また出場選手はアシスタントセカンド可なので、入力しないこと。
A4: ※大会関係者は実行委員会で取りまとめるので入力しないこと。
A5: ブロック取りまとめ氏名 | C5: =IF(データ入力用!F7=0,"",データ入力用!F7) | F5: 連絡先 | G5: =IF(データ入力用!G7=0,"",データ入力用!G7)
K6: 高校所属の場合は記載不要
B7: 役職① | D7: 役職② | E7: 氏名 | F7: ふりがな | G7: 所属（学校等）名 | H7: 都道府県名 | I7: 日連登録番号 | J7: セカンド番号 | K7: 連絡先
A8: 1 | B8: =IF(データ入力用!C53=0,"",データ入力用!C53) | D8: =IF(データ入力用!E53=0,"",データ入力用!E53) | E8: =IF(データ入力用!F53=0,"",データ入力用!F53) | F8: =IF(データ入力用!G53=0,"",データ入力用!G53) | G8: =IF(データ入力用!H53=0,"",データ入力用!H53) | H8: =IF(データ入力用!I53=0,"",データ入力用!I53) | I8: =IF(データ入力用!J53=0,"",データ入力用!J53) | J8: =IF(データ入力用!K53=0,"",データ入力用!K53) | K8: =IF(データ入力用!L53=0,"",データ入力用!L53)
A9: 2 | B9: =IF(データ入力用!C54=0,"",データ入力用!C54) | D9: =IF(データ入力用!E54=0,"",データ入力用!E54) | E9: =IF(データ入力用!F54=0,"",データ入力用!F54) | F9: =IF(データ入力用!G54=0,"",データ入力用!G54) | G9: =IF(データ入力用!H54=0,"",データ入力用!H54) | H9: =IF(データ入力用!I54=0,"",データ入力用!I54) | I9: =IF(データ入力用!J54=0,"",データ入力用!J54) | J9: =IF(データ入力用!K54=0,"",データ入力用!K54) | K9: =IF(データ入力用!L54=0,"",データ入力用!L54)
A10: 3 | B10: =IF(データ入力用!C55=0,"",データ入力用!C55) | D10: =IF(データ入力用!E55=0,"",データ入力用!E55) | E10: =IF(データ入力用!F55=0,"",データ入力用!F55) | F10: =IF(データ入力用!G55=0,"",データ入力用!G55) | G10: =IF(データ入力用!H55=0,"",データ入力用!H55) | H10: =IF(データ入力用!I55=0,"",データ入力用!I55) | I10: =IF(データ入力用!J55=0,"",データ入力用!J55) | J10: =IF(データ入力用!K55=0,"",データ入力用!K55) | K10: =IF(データ入力用!L55=0,"",データ入力用!L55)
A11: 4 | B11: =IF(データ入力用!C56=0,"",データ入力用!C56) | D11: =IF(データ入力用!E56=0,"",データ入力用!E56) | E11: =IF(データ入力用!F56=0,"",データ入力用!F56) | F11: =IF(データ入力用!G56=0,"",データ入力用!G56) | G11: =IF(データ入力用!H56=0,"",データ入力用!H56) | H11: =IF(データ入力用!I56=0,"",データ入力用!I56) | I11: =IF(データ入力用!J56=0,"",データ入力用!J56) | J11: =IF(データ入力用!K56=0,"",データ入力用!K56) | K11: =IF(データ入力用!L56=0,"",データ入力用!L56)
A12: 5 | B12: =IF(データ入力用!C57=0,"",データ入力用!C57) | D12: =IF(データ入力用!E57=0,"",データ入力用!E57) | E12: =IF(データ入力用!F57=0,"",データ入力用!F57) | F12: =IF(データ入力用!G57=0,"",データ入力用!G57) | G12: =IF(データ入力用!H57=0,"",データ入力用!H57) | H12: =IF(データ入力用!I57=0,"",データ入力用!I57) | I12: =IF(データ入力用!J57=0,"",データ入力用!J57) | J12: =IF(データ入力用!K57=0,"",データ入力用!K57) | K12: =IF(データ入力用!L57=0,"",データ入力用!L57)
A13: 6 | B13: =IF(データ入力用!C58=0,"",データ入力用!C58) | D13: =IF(データ入力用!E58=0,"",データ入力用!E58) | E13: =IF(データ入力用!F58=0,"",データ入力用!F58) | F13: =IF(データ入力用!G58=0,"",データ入力用!G58) | G13: =IF(データ入力用!H58=0,"",データ入力用!H58) | H13: =IF(データ入力用!I58=0,"",データ入力用!I58) | I13: =IF(データ入力用!J58=0,"",データ入力用!J58) | J13: =IF(データ入力用!K58=0,"",データ入力用!K58) | K13: =IF(データ入力用!L58=0,"",データ入力用!L58)
A14: 7 | B14: =IF(データ入力用!C59=0,"",データ入力用!C59) | D14: =IF(データ入力用!E59=0,"",データ入力用!E59) | E14: =IF(データ入力用!F59=0,"",データ入力用!F59) | F14: =IF(データ入力用!G59=0,"",データ入力用!G59) | G14: =IF(データ入力用!H59=0,"",データ入力用!H59) | H14: =IF(データ入力用!I59=0,"",データ入力用!I59) | I14: =IF(データ入力用!J59=0,"",データ入力用!J59) | J14: =IF(データ入力用!K59=0,"",データ入力用!K59) | K14: =IF(データ入力用!L59=0,"",データ入力用!L59)
A15: 8 | B15: =IF(データ入力用!C60=0,"",データ入力用!C60) | D15: =IF(データ入力用!E60=0,"",データ入力用!E60) | E15: =IF(データ入力用!F60=0,"",データ入力用!F60) | F15: =IF(データ入力用!G60=0,"",データ入力用!G60) | G15: =IF(データ入力用!H60=0,"",データ入力用!H60) | H15: =IF(データ入力用!I60=0,"",データ入力用!I60) | I15: =IF(データ入力用!J60=0,"",データ入力用!J60) | J15: =IF(データ入力用!K60=0,"",データ入力用!K60) | K15: =IF(データ入力用!L60=0,"",データ入力用!L60)
A16: 9 | B16: =IF(データ入力用!C61=0,"",データ入力用!C61) | D16: =IF(データ入力用!E61=0,"",データ入力用!E61) | E16: =IF(データ入力用!F61=0,"",データ入力用!F61) | F16: =IF(データ入力用!G61=0,"",データ入力用!G61) | G16: =IF(データ入力用!H61=0,"",データ入力用!H61) | H16: =IF(データ入力用!I61=0,"",データ入力用!I61) | I16: =IF(データ入力用!J61=0,"",データ入力用!J61) | J16: =IF(データ入力用!K61=0,"",データ入力用!K61) | K16: =IF(データ入力用!L61=0,"",データ入力用!L61)
A17: 10 | B17: =IF(データ入力用!C62=0,"",データ入力用!C62) | D17: =IF(データ入力用!E62=0,"",データ入力用!E62) | E17: =IF(データ入力用!F62=0,"",データ入力用!F62) | F17: =IF(データ入力用!G62=0,"",データ入力用!G62) | G17: =IF(データ入力用!H62=0,"",データ入力用!H62) | H17: =IF(データ入力用!I62=0,"",データ入力用!I62) | I17: =IF(データ入力用!J62=0,"",データ入力用!J62) | J17: =IF(データ入力用!K62=0,"",データ入力用!K62) | K17: =IF(データ入力用!L62=0,"",データ入力用!L62)
A18: 11 | B18: =IF(データ入力用!C63=0,"",データ入力用!C63) | D18: =IF(データ入力用!E63=0,"",データ入力用!E63) | E18: =IF(データ入力用!F63=0,"",データ入力用!F63) | F18: =IF(データ入力用!G63=0,"",データ入力用!G63) | G18: =IF(データ入力用!H63=0,"",データ入力用!H63) | H18: =IF(データ入力用!I63=0,"",データ入力用!I63) | I18: =IF(データ入力用!J63=0,"",データ入力用!J63) | J18: =IF(データ入力用!K63=0,"",データ入力用!K63) | K18: =IF(データ入力用!L63=0,"",データ入力用!L63)
A19: 12 | B19: =IF(データ入力用!C64=0,"",データ入力用!C64) | D19: =IF(データ入力用!E64=0,"",データ入力用!E64) | E19: =IF(データ入力用!F64=0,"",データ入力用!F64) | F19: =IF(データ入力用!G64=0,"",データ入力用!G64) | G19: =IF(データ入力用!H64=0,"",データ入力用!H64) | H19: =IF(データ入力用!I64=0,"",データ入力用!I64) | I19: =IF(データ入力用!J64=0,"",データ入力用!J64) | J19: =IF(データ入力用!K64=0,"",データ入力用!K64) | K19: =IF(データ入力用!L64=0,"",データ入力用!L64)
... A67: 60 | B67: =IF(データ入力用!C112=0,"",データ入力用!C112) | D67: =IF(データ入力用!E112=0,"",データ入力用!E112) | E67: =IF(データ入力用!F112=0,"",データ入力用!F112) | F67: =IF(データ入力用!G112=0,"",データ入力用!G112) | G67: =IF(データ入力用!H112=0,"",データ入力用!H112) | H67: =IF(データ入力用!I112=0,"",データ入力用!I112) | I67: =IF(データ入力用!J112=0,"",データ入力用!J112) | J67: =IF(データ入力用!K112=0,"",データ入力用!K112) | K67: =IF(データ入力用!L112=0,"",データ入力用!L112)

Sheet ④エントリーズチェック確認
C3: =①男女その1!C1&①男女その1!C2 -> 令和８年度 第38回全国高等学校ボクシング選抜大会兼 ＪＯＣジュニアオリンピックカップボクシング競技大会 | P3: エントリーズチェック確認
C5: ブロック名： | E5: =IF(データ入力用!F2=0,"",データ入力用!F2) | F5: 記載責任者： | H5: =IF(データ入力用!F7=0,"",データ入力用!F7)
C7: 階級 | D7: 性別 | E7: 選手名 | F7: 所属先 | G7: 都道府県名 | H7: 健康申告書 | I7: 選手手帳 | P7: ユニフォーム | R7: 所見あり
H8: 健康申告書 | I8: 写真 | J8: 選手名 | K8: 登録番号 | L8: CT | M8: 心電図 | N8: X線 | O8: 年次健診 | P8: 赤 | Q8: 青 | R8: 記入欄
C9: =IF(データ入力用!E16=0,"",データ入力用!E16) | D9: =IF(データ入力用!D16=0,"",データ入力用!D16) | E9: =IF(データ入力用!F16=0,"",データ入力用!F16) | F9: =IF(データ入力用!H16=0,"",データ入力用!H16) | G9: =IF(データ入力用!J16=0,"",データ入力用!J16)
C10: =IF(データ入力用!E17=0,"",データ入力用!E17) | D10: =IF(データ入力用!D17=0,"",データ入力用!D17) | E10: =IF(データ入力用!F17=0,"",データ入力用!F17) | F10: =IF(データ入力用!H17=0,"",データ入力用!H17) | G10: =IF(データ入力用!J17=0,"",データ入力用!J17)
C11: =IF(データ入力用!E18=0,"",データ入力用!E18) | D11: =IF(データ入力用!D18=0,"",データ入力用!D18) | E11: =IF(データ入力用!F18=0,"",データ入力用!F18) | F11: =IF(データ入力用!H18=0,"",データ入力用!H18) | G11: =IF(データ入力用!J18=0,"",データ入力用!J18)
C12: =IF(データ入力用!E19=0,"",データ入力用!E19) | D12: =IF(データ入力用!D19=0,"",データ入力用!D19) | E12: =IF(データ入力用!F19=0,"",データ入力用!F19) | F12: =IF(データ入力用!H19=0,"",データ入力用!H19) | G12: =IF(データ入力用!J19=0,"",データ入力用!J19)
C13: =IF(データ入力用!E20=0,"",データ入力用!E20) | D13: =IF(データ入力用!D20=0,"",データ入力用!D20) | E13: =IF(データ入力用!F20=0,"",データ入力用!F20) | F13: =IF(データ入力用!H20=0,"",データ入力用!H20) | G13: =IF(データ入力用!J20=0,"",データ入力用!J20)
C14: =IF(データ入力用!E21=0,"",データ入力用!E21) | D14: =IF(データ入力用!D21=0,"",データ入力用!D21) | E14: =IF(データ入力用!F21=0,"",データ入力用!F21) | F14: =IF(データ入力用!H21=0,"",データ入力用!H21) | G14: =IF(データ入力用!J21=0,"",データ入力用!J21)
C15: =IF(データ入力用!E22=0,"",データ入力用!E22) | D15: =IF(データ入力用!D22=0,"",データ入力用!D22) | E15: =IF(データ入力用!F22=0,"",データ入力用!F22) | F15: =IF(データ入力用!H22=0,"",データ入力用!H22) | G15: =IF(データ入力用!J22=0,"",データ入力用!J22)
C16: =IF(データ入力用!E23=0,"",データ入力用!E23) | D16: =IF(データ入力用!D23=0,"",データ入力用!D23) | E16: =IF(データ入力用!F23=0,"",データ入力用!F23) | F16: =IF(データ入力用!H23=0,"",データ入力用!H23) | G16: =IF(データ入力用!J23=0,"",データ入力用!J23)
C17: =IF(データ入力用!E24=0,"",データ入力用!E24) | D17: =IF(データ入力用!D24=0,"",データ入力用!D24) | E17: =IF(データ入力用!F24=0,"",データ入力用!F24) | F17: =IF(データ入力用!H24=0,"",データ入力用!H24) | G17: =IF(データ入力用!J24=0,"",データ入力用!J24)
C18: =IF(データ入力用!E25=0,"",データ入力用!E25) | D18: =IF(データ入力用!D25=0,"",データ入力用!D25) | E18: =IF(データ入力用!F25=0,"",データ入力用!F25) | F18: =IF(データ入力用!H25=0,"",データ入力用!H25) | G18: =IF(データ入力用!J25=0,"",データ入力用!J25)
C19: =IF(データ入力用!E26=0,"",データ入力用!E26) | D19: =IF(データ入力用!D26=0,"",データ入力用!D26) | E19: =IF(データ入力用!F26=0,"",データ入力用!F26) | F19: =IF(データ入力用!H26=0,"",データ入力用!H26) | G19: =IF(データ入力用!J26=0,"",データ入力用!J26)
C20: =IF(データ入力用!E27=0,"",データ入力用!E27) | D20: =IF(データ入力用!D27=0,"",データ入力用!D27) | E20: =IF(データ入力用!F27=0,"",データ入力用!F27) | F20: =IF(データ入力用!H27=0,"",データ入力用!H27) | G20: =IF(データ入力用!J27=0,"",データ入力用!J27)
... C30: =IF(データ入力用!E37=0,"",データ入力用!E37) | D30: =IF(データ入力用!D37=0,"",データ入力用!D37) | E30: =IF(データ入力用!F37=0,"",データ入力用!F37) | F30: =IF(データ入力用!H37=0,"",データ入力用!H37) | G30: =IF(データ入力用!J37=0,"",データ入力用!J37)
C32: 表記大会参加にあたり、上記選手は各項目に不備がないことを確認し、また偽りのないことを認めます。
E33: 令和９年 月 日 | G33: =IF(データ入力用!F2=0,"",データ入力用!F2) | J33: ボクシング連盟 会長氏名 | M33: =IF(データ入力用!F4=0,"",データ入力用!F4)
C41: Min | D41: 男 | E41: P | H41: ○ | I41: ○
C42: F | D42: 女 | E42: LF | H42: × | I42: ×
C43: B | E43: F
C44: Fe | E44: B
C45: L | E45: L
C46: LW | E46: LW
C47: W | E47: W
C48: LM | E48: LM
C49: M | E49: M
C50: LH | E50: ２P
C51: C | E51: ２LF
C52: H | E52: ２F
C53: SH | E53: ２B
E54: ２L
E55: ２LW
E56: ２W
E57: ２LM
E58: ２M
E59: WP
E60: WLF
E61: WF
...

Sheet ⑤部旗掲揚希望
B1: 各都道府県部旗掲揚希望一覧
G2: ブロック | H2: =データ入力用!F2 -> 0
B3: 会場受付で部旗の確認をいたしますので、掲揚前に必ず各校より受付を済ませてください。
B4: 部旗以外は認めません。
A5: 都道府県 | B5: No. | C5: 都道府県名 | D5: 学校名 | E5: 引率責任者 | F5: 携帯電話番号 | G5: 旗の大きさ | J5: 1 | K5: 北海道
G6: 縦（ｃｍ） | H6: 横（ｃｍ） | J6: 2 | K6: 青森県
A7: =$H$2 -> 0 | B7: 1 | J7: 3 | K7: 岩手県
A8: =$H$2 -> 0 | B8: 2 | J8: 4 | K8: 宮城県
A9: =$H$2 -> 0 | B9: 3 | J9: 5 | K9: 秋田県
A10: =$H$2 -> 0 | B10: 4 | J10: 6 | K10: 山形県
A11: =$H$2 -> 0 | B11: 5 | J11: 7 | K11: 福島県
A12: =$H$2 -> 0 | B12: 6 | J12: 32 | K12: 島根県
A13: =$H$2 -> 0 | B13: 7 | J13: 33 | K13: 岡山県
A14: =$H$2 -> 0 | B14: 8 | J14: 34 | K14: 広島県
A15: =$H$2 -> 0 | B15: 9 | J15: 35 | K15: 山口県
A16: =$H$2 -> 0 | B16: 10 | J16: 36 | K16: 徳島県
A17: =$H$2 -> 0 | B17: 11 | J17: 37 | K17: 香川県

Sheet 変更辞退届
B2: =①男女その1!C1 -> 令和８年度 第38回全国高等学校ボクシング選抜大会
B3: =①男女その1!C2 -> 兼 ＪＯＣジュニアオリンピックカップボクシング競技大会
B5: 選 手 変 更 ・ 辞 退 届
B8: ブロック名 | D8: 都道府県名
B10: １ 該当する届出に○印を記入。なお，選手変更の場合は２～４を，辞退の場合は２・４を記入すること。
B12: 選 手 変 更 | D12: 辞 退
B14: ２ 申込選手
B15: 階 級 | C15: 選 手 名 | D15: 所属校名
B18: ３ 変更選手
B19: 登録番号 | C19: 選手名 | D19: 所属校名 | E19: 生年月日西暦 | F19: 学年
B23: ４ 選手変更または辞退理由
B26: 令和９年 月 日
B28: =B2&B3 -> 令和８年度 第38回全国高等学校ボクシング選抜大会兼 ＪＯＣジュニアオリンピックカップボクシング競技大会 | F28: 会長 様
D30: 変更申込責任者氏名
D31: 連絡先電話番号
D33: ブロック連盟会長 印
B35: ※ 注意事項
B36: 辞退の場合は、ブロック連盟会長印不要。
B37: 選手変更届の締め切りは令和９年２月２０日（土）までとする。
B38: なお，所属ブロック連盟会長の許可を得ること。
B39: 選手変更については、参加料が発生する。
B40: 変更手続きについて、ブロック連盟事務局、都道府県事務局、参加校で連携して、「選手変更届」PDFと合わせ、
B41: 15 参加申込の流れで日連登録システムからの申込み、振込を行うこと。
B42: また、②「参加申込書その２」、変更分のExcelデータ③④も作成し、上記15 申込先（９）へ②のpdfと
B43: 変更分のExcelデータをメールで提出すること。

Sheet 男女兼用健康申告書
E2: 競技会用健康申告書 | R2: Ver.2026
B4: 大 会 名 | E4: 令和８年度 第38回全国高等学校ボクシング選抜大会 兼 ＪＯＣジュニアオリンピックカップボクシング競技大会 | L4: 大会期間 | N4: 令９年３月２０日(土) ～３月２５日(木)
B5: 氏 名 | J5: 生年月日／年齢 | L5: 年 月 日 生 （ 歳）
B6: 所属 (学校名等) | J6: 学年 年 | L6: 階級
B8: １．直近２年間のことについて当てはまるものに○印をつけ、"あり”の場合 は詳しく記入してください。
B9: ① 外傷歴
B10: なし ・ あり | F10: 頭部外傷（強い打撃や衝撃をうけた） 時期〔 30日未満 ／ 30日以上前 ～ 1年未満 ／ 1年以上前 〕
F11: 骨折･脱臼 〔 部位： ／ 時期： ／ 手術： あり・なし 〕
F12: 靱帯損傷 〔 部位： ／ 時期： ／ 手術： あり・なし 〕
F13: 筋挫傷 (肉離れ) ・ 突き指 ・ 腰痛 ・ 関節炎 〔 部位： 〕
F14: その他外傷〔 部位： ／ 時期： ／ 手術： あり・なし 〕
B15: ② 他の病歴（病院受診・手術・投薬を必要としたもの）
B16: なし ・ あり | F16: 病名〔 〕 ／ 時期〔 〕
F17: 入院： あり・なし ／ 手術： あり・なし ／ 現在の投薬： あり・なし
F18: 病名〔 〕 ／ 時期〔 〕
F19: 入院： あり・なし ／ 手術： あり・なし ／ 現在の投薬： あり・なし
B20: ③ 上記1) 2)のいずれかでも "あり”の場合、今大会出場にあたっての医師の許可
B21: なし ・ あり
B22: ④ TUE（治療使用特例）申請が必要な薬物申請
B23: なし ・ あり | F23: 申請〔 済み ・ 未 〕
B24: ⑤ 競技（出場）停止の有無
B25: なし ・ あり | F25: いつから〔 令和 年 月 日 〕 ／ 停止期間〔 日間 〕 ／ 停止解除許可〔 あり ・ なし 〕
B26: ２．現在の体の状態について教えてください。
B27: ① ソフトコンタクトレンズ装着の有無
B28: なし ・ あり
B29: ② 下肢へのテーピングまたはサポーターの使用
B30: なし ・ あり | F30: 詳細（どこに、どのような）〔 〕
B31: ③ 歯列矯正の有無（※ 矯正器に適合するマウスピースと診断書が必要）
B32: なし ・ あり | F32: 部位〔 上 ・ 下 ・ 上下とも 〕
B33: ④ 今大会に向けての減量
B34: なし ・ あり | F34: 全体で〔 kg〕 ／ 1カ月で〔 kg〕 ／ 直近1週間で〔 kg〕
B35: ⑤ 下記のような体調不良があれば、下の表に○印をつけ申告して下さい（※ 全員／競技日記載）
B37: 頭痛・頭重感 | F37: 立ちくらみ・めまい | J37: 耳の症状 | N37: 目の症状
B39: 胸の痛み・しめつけ | F39: 胸のドキドキ・息苦しさ | J39: かぜ症状 | N39: 胃腸症状
B41: 排尿異常 | F41: 手足の痛みや腫れ | J41: 手足の動かしづらさ | N41: しびれ・けいれん
B43: 食欲低下 | F43: だるさ・疲労感 | J43: 気分の不調 | N43: その他の不調
N46: 【競技会健診確認欄】
G47: ／ | H47: ／ | I47: ／ | J47: ／ | K47: ／ | L47: ／ | N47: 日付 | O47: 指導者署名 | R47: 医事委員㊞
B48: 上記体調不良があれば ○印をつける → | N48: ／
B49: ※ 以下、女子のみ | N49: ／
...
